BEGIN:VCALENDAR
VERSION:2.0
PRODID:icalendar-ruby
CALSCALE:GREGORIAN
METHOD:PUBLISH
BEGIN:VEVENT
DTSTAMP:20260423T162744Z
UID:8-874723@storehousemin.com
DTSTART:20260809T150000Z
DTEND:20260809T173000Z
CLASS:PUBLIC
CREATED:20260423T094203
DESCRIPTION:Sunday Services
LAST-MODIFIED:20260423T094203
LOCATION:
SUMMARY:Sunday Services
URL;VALUE=URI:https://www.storehousemin.com/events/sunday-services/2026-08-
 09
END:VEVENT
END:VCALENDAR
