BEGIN:VCALENDAR
VERSION:2.0
PRODID:icalendar-ruby
CALSCALE:GREGORIAN
METHOD:PUBLISH
BEGIN:VEVENT
DTSTAMP:20260425T111752Z
UID:8-878274@storehousemin.com
DTSTART:20260913T150000Z
DTEND:20260913T173000Z
CLASS:PUBLIC
CREATED:20260424T205357
DESCRIPTION:Sunday Services
LAST-MODIFIED:20260424T205357
LOCATION:
SUMMARY:Sunday Services
URL;VALUE=URI:https://www.storehousemin.com/events/sunday-services/2026-09-
 13
END:VEVENT
END:VCALENDAR
