BEGIN:VCALENDAR
VERSION:2.0
PRODID:icalendar-ruby
CALSCALE:GREGORIAN
METHOD:PUBLISH
BEGIN:VEVENT
DTSTAMP:20260425T130034Z
UID:8-878630@storehousemin.com
DTSTART:20260920T150000Z
DTEND:20260920T173000Z
CLASS:PUBLIC
CREATED:20260425T064017
DESCRIPTION:Sunday Services
LAST-MODIFIED:20260425T064017
LOCATION:
SUMMARY:Sunday Services
URL;VALUE=URI:https://www.storehousemin.com/events/sunday-services/2026-09-
 20
END:VEVENT
END:VCALENDAR
