BEGIN:VCALENDAR
VERSION:2.0
PRODID:icalendar-ruby
CALSCALE:GREGORIAN
METHOD:PUBLISH
BEGIN:VEVENT
DTSTAMP:20260425T174143Z
UID:8-879343@storehousemin.com
DTSTART:20261011T150000Z
DTEND:20261011T173000Z
CLASS:PUBLIC
CREATED:20260425T120142
DESCRIPTION:Sunday Services
LAST-MODIFIED:20260425T120142
LOCATION:
SUMMARY:Sunday Services
URL;VALUE=URI:https://www.storehousemin.com/events/sunday-services/2026-10-
 11
END:VEVENT
END:VCALENDAR
