BEGIN:VCALENDAR
VERSION:2.0
PRODID:icalendar-ruby
CALSCALE:GREGORIAN
METHOD:PUBLISH
BEGIN:VEVENT
DTSTAMP:20260425T205318Z
UID:8-879700@storehousemin.com
DTSTART:20261025T150000Z
DTEND:20261025T173000Z
CLASS:PUBLIC
CREATED:20260425T144241
DESCRIPTION:Sunday Services
LAST-MODIFIED:20260425T144241
LOCATION:
SUMMARY:Sunday Services
URL;VALUE=URI:https://www.storehousemin.com/events/sunday-services/2026-10-
 25
END:VEVENT
END:VCALENDAR
