BEGIN:VCALENDAR
VERSION:2.0
PRODID:icalendar-ruby
CALSCALE:GREGORIAN
METHOD:PUBLISH
BEGIN:VEVENT
DTSTAMP:20260425T222834Z
UID:8-880056@storehousemin.com
DTSTART:20261101T160000Z
DTEND:20261101T183000Z
CLASS:PUBLIC
CREATED:20260425T172505
DESCRIPTION:Sunday Services
LAST-MODIFIED:20260425T172505
LOCATION:
SUMMARY:Sunday Services
URL;VALUE=URI:https://www.storehousemin.com/events/sunday-services/2026-11-
 01
END:VEVENT
END:VCALENDAR
