BEGIN:VCALENDAR
VERSION:2.0
PRODID:icalendar-ruby
CALSCALE:GREGORIAN
METHOD:PUBLISH
BEGIN:VEVENT
DTSTAMP:20260421T140548Z
UID:9-870296@storehousemin.com
DTSTART:20260724T000000Z
DTEND:20260724T004500Z
CLASS:PUBLIC
CREATED:20260421T063651
DESCRIPTION:Thursday Bible Study
LAST-MODIFIED:20260421T063651
LOCATION:
SUMMARY:Thursday Bible Study
URL;VALUE=URI:https://www.storehousemin.com/events/thursday-bible-study/202
 6-07-23
END:VEVENT
END:VCALENDAR
