BEGIN:VCALENDAR
VERSION:2.0
PRODID:icalendar-ruby
CALSCALE:GREGORIAN
METHOD:PUBLISH
BEGIN:VEVENT
DTSTAMP:20260421T155449Z
UID:9-870651@storehousemin.com
DTSTART:20260731T000000Z
DTEND:20260731T004500Z
CLASS:PUBLIC
CREATED:20260421T091232
DESCRIPTION:Thursday Bible Study
LAST-MODIFIED:20260421T091232
LOCATION:
SUMMARY:Thursday Bible Study
URL;VALUE=URI:https://www.storehousemin.com/events/thursday-bible-study/202
 6-07-30
END:VEVENT
END:VCALENDAR
