BEGIN:VCALENDAR
VERSION:2.0
PRODID:icalendar-ruby
CALSCALE:GREGORIAN
METHOD:PUBLISH
BEGIN:VEVENT
DTSTAMP:20260421T172227Z
UID:9-871006@storehousemin.com
DTSTART:20260807T000000Z
DTEND:20260807T004500Z
CLASS:PUBLIC
CREATED:20260421T115109
DESCRIPTION:Thursday Bible Study
LAST-MODIFIED:20260421T115109
LOCATION:
SUMMARY:Thursday Bible Study
URL;VALUE=URI:https://www.storehousemin.com/events/thursday-bible-study/202
 6-08-06
END:VEVENT
END:VCALENDAR
