BEGIN:VCALENDAR
VERSION:2.0
PRODID:icalendar-ruby
CALSCALE:GREGORIAN
METHOD:PUBLISH
BEGIN:VEVENT
DTSTAMP:20260423T112123Z
UID:9-874195@storehousemin.com
DTSTART:20260828T000000Z
DTEND:20260828T004500Z
CLASS:PUBLIC
CREATED:20260422T211854
DESCRIPTION:Thursday Bible Study
LAST-MODIFIED:20260422T211854
LOCATION:
SUMMARY:Thursday Bible Study
URL;VALUE=URI:https://www.storehousemin.com/events/thursday-bible-study/202
 6-08-27
END:VEVENT
END:VCALENDAR
