BEGIN:VCALENDAR
VERSION:2.0
PRODID:icalendar-ruby
CALSCALE:GREGORIAN
METHOD:PUBLISH
BEGIN:VEVENT
DTSTAMP:20260423T125101Z
UID:9-874550@storehousemin.com
DTSTART:20260904T000000Z
DTEND:20260904T004500Z
CLASS:PUBLIC
CREATED:20260423T064843
DESCRIPTION:Thursday Bible Study
LAST-MODIFIED:20260423T064843
LOCATION:
SUMMARY:Thursday Bible Study
URL;VALUE=URI:https://www.storehousemin.com/events/thursday-bible-study/202
 6-09-03
END:VEVENT
END:VCALENDAR
