BEGIN:VCALENDAR
VERSION:2.0
PRODID:icalendar-ruby
CALSCALE:GREGORIAN
METHOD:PUBLISH
BEGIN:VEVENT
DTSTAMP:20260423T160829Z
UID:9-874906@storehousemin.com
DTSTART:20260918T000000Z
DTEND:20260918T004500Z
CLASS:PUBLIC
CREATED:20260423T094203
DESCRIPTION:Thursday Bible Study
LAST-MODIFIED:20260423T094203
LOCATION:
SUMMARY:Thursday Bible Study
URL;VALUE=URI:https://www.storehousemin.com/events/thursday-bible-study/202
 6-09-17
END:VEVENT
END:VCALENDAR
