BEGIN:VCALENDAR
VERSION:2.0
PRODID:icalendar-ruby
CALSCALE:GREGORIAN
METHOD:PUBLISH
BEGIN:VEVENT
DTSTAMP:20260423T174813Z
UID:9-875261@storehousemin.com
DTSTART:20260925T000000Z
DTEND:20260925T004500Z
CLASS:PUBLIC
CREATED:20260423T123729
DESCRIPTION:Thursday Bible Study
LAST-MODIFIED:20260423T123729
LOCATION:
SUMMARY:Thursday Bible Study
URL;VALUE=URI:https://www.storehousemin.com/events/thursday-bible-study/202
 6-09-24
END:VEVENT
END:VCALENDAR
