BEGIN:VCALENDAR
VERSION:2.0
PRODID:icalendar-ruby
CALSCALE:GREGORIAN
METHOD:PUBLISH
BEGIN:VEVENT
DTSTAMP:20260425T114025Z
UID:9-878812@storehousemin.com
DTSTART:20261023T000000Z
DTEND:20261023T004500Z
CLASS:PUBLIC
CREATED:20260425T064017
DESCRIPTION:Thursday Bible Study
LAST-MODIFIED:20260425T064017
LOCATION:
SUMMARY:Thursday Bible Study
URL;VALUE=URI:https://www.storehousemin.com/events/thursday-bible-study/202
 6-10-22
END:VEVENT
END:VCALENDAR
