BEGIN:VCALENDAR
VERSION:2.0
PRODID:icalendar-ruby
CALSCALE:GREGORIAN
METHOD:PUBLISH
BEGIN:VEVENT
DTSTAMP:20260425T145339Z
UID:9-879169@storehousemin.com
DTSTART:20261106T010000Z
DTEND:20261106T014500Z
CLASS:PUBLIC
CREATED:20260425T092132
DESCRIPTION:Thursday Bible Study
LAST-MODIFIED:20260425T092132
LOCATION:
SUMMARY:Thursday Bible Study
URL;VALUE=URI:https://www.storehousemin.com/events/thursday-bible-study/202
 6-11-05
END:VEVENT
END:VCALENDAR
